BEGIN:VCALENDAR
PRODID:-//github.com/ical-org/ical.net//NONSGML ical.net 4.0//EN
VERSION:2.0
BEGIN:VEVENT
CREATED:20260422T040609Z
DESCRIPTION:Axfood’s year-end report for the full year 2025 will be releas
 ed on 29 January 2026 at 7.00 a.m. CET.
DTEND:20260129T070000
DTSTAMP:20260422T040609Z
DTSTART:20260129T070000
SEQUENCE:0
SUMMARY:Year-end report 2025
UID:dbe87f15-3f06-4568-976d-1dd21ed5e5ff
END:VEVENT
END:VCALENDAR
