BEGIN:VCALENDAR
PRODID:-//github.com/ical-org/ical.net//NONSGML ical.net 4.0//EN
VERSION:2.0
BEGIN:VEVENT
CREATED:20260422T084530Z
DTEND:20180424T070000
DTSTAMP:20260422T084530Z
DTSTART:20180424T070000
SEQUENCE:0
SUMMARY:Interim report first quarter 2018
UID:ee3a23ad-48d1-40bb-ae57-5d9601cf5b5e
END:VEVENT
END:VCALENDAR
