BEGIN:VCALENDAR
PRODID:-//github.com/ical-org/ical.net//NONSGML ical.net 4.0//EN
VERSION:2.0
BEGIN:VEVENT
CREATED:20260420T082552Z
DESCRIPTION:Axfood’s interim report for the period January-June 2022 will 
 be released on 15 July 2022 at 7.00 a.m. CET.
DTEND:20220715T070000
DTSTAMP:20260420T082552Z
DTSTART:20220715T070000
SEQUENCE:0
SUMMARY:Interim report second quarter 2022
UID:a2d87de9-ed75-41ef-8c33-1ea55251c795
END:VEVENT
END:VCALENDAR
