BEGIN:VCALENDAR
PRODID:-//github.com/ical-org/ical.net//NONSGML ical.net 4.0//EN
VERSION:2.0
BEGIN:VEVENT
CREATED:20260421T082654Z
DESCRIPTION:Axfood’s interim report for the period January-June 2021 will 
 be released on 15 July 2021 at 7.00 a.m. CET.
DTEND:20210715T070000
DTSTAMP:20260421T082654Z
DTSTART:20210715T070000
SEQUENCE:0
SUMMARY:Interim report second quarter 2021
UID:fec62996-aaa8-462a-9219-10b7d78fbce6
END:VEVENT
END:VCALENDAR
