BEGIN:VCALENDAR
PRODID:-//github.com/ical-org/ical.net//NONSGML ical.net 4.0//EN
VERSION:2.0
BEGIN:VEVENT
CREATED:20260421T133855Z
DTEND:20261022T070000
DTSTAMP:20260421T133855Z
DTSTART:20261022T070000
SEQUENCE:0
SUMMARY:Interim report third quarter 2026
UID:faa91d32-e8ff-45c4-b67f-051065ebf270
END:VEVENT
END:VCALENDAR
