BEGIN:VCALENDAR
PRODID:-//github.com/ical-org/ical.net//NONSGML ical.net 4.0//EN
VERSION:2.0
BEGIN:VEVENT
CREATED:20260421T133631Z
DTEND:20260715T070000
DTSTAMP:20260421T133631Z
DTSTART:20260715T070000
SEQUENCE:0
SUMMARY:Interim report second quarter 2026
UID:a1d22892-314d-48f1-b6a1-c98b32899a8e
END:VEVENT
END:VCALENDAR
