BEGIN:VCALENDAR
PRODID:-//github.com/ical-org/ical.net//NONSGML ical.net 4.0//EN
VERSION:2.0
BEGIN:VEVENT
CREATED:20260421T134351Z
DTEND:20260423T070000
DTSTAMP:20260421T134351Z
DTSTART:20260423T070000
SEQUENCE:0
SUMMARY:Interim report first quarter 2026
UID:e9b35d5f-bba5-40b3-8131-696b7a71cb13
END:VEVENT
END:VCALENDAR
