BEGIN:VCALENDAR
PRODID:-//github.com/ical-org/ical.net//NONSGML ical.net 4.0//EN
VERSION:2.0
BEGIN:VEVENT
CREATED:20260421T133533Z
DESCRIPTION:Axfood observes a "silent period" beginning 30 days prior to p
 ublication of a year-end or interim report. During this period\, represen
 tatives of the company will not comment on financial developments.
DTEND:20261022T070000
DTSTAMP:20260421T133533Z
DTSTART:20260923T070000
SEQUENCE:0
SUMMARY:Silent period Q3'26
UID:dacef826-3e15-4bee-8d9b-b62d70c7a88b
END:VEVENT
END:VCALENDAR
