BEGIN:VCALENDAR
PRODID:-//github.com/ical-org/ical.net//NONSGML ical.net 4.0//EN
VERSION:2.0
BEGIN:VEVENT
CREATED:20260421T134601Z
DESCRIPTION:Axfood observes a "silent period" beginning 30 days prior to p
 ublication of a year-end or interim report. During this period\, represen
 tatives of the company will not comment on financial developments.
DTEND:20260423T070000
DTSTAMP:20260421T134601Z
DTSTART:20260324T070000
SEQUENCE:0
SUMMARY:Silent period Q1'26
UID:5e635c79-bc07-41a8-905c-f9e8a79fe1d5
END:VEVENT
END:VCALENDAR
